<?xml version="1.0"?>
<Capabilities xmlns="http://www.opengis.net/wmts/1.0" xmlns:ows="http://www.opengis.net/ows/1.1" xmlns:xlink="http://www.w3.org/1999/xlink" xmlns:xsi="http://www.w3.org/2001/XMLSchema-instance" xmlns:gml="http://www.opengis.net/gml" xsi:schemaLocation="http://www.opengis.net/wmts/1.0 http://schemas.opengis.net/wmts/1.0/wmtsGetCapabilities_response.xsd" version="1.0.0">
  <ows:ServiceIdentification>
    <ows:Title>Map5.nl Dutch Topo Maps</ows:Title>
    <ows:Abstract>Map services for contemporary and historic topographic maps of The Netherlands. Release 2026-07 (data from July 2026). There is a free service with some limitations plus a paid service. More info at map5.nl. The 'map5topo' layers provice topographic maps of The Netherlands plus part of neighbouring countries (Ger,Bel,Fr) These layers are developed by Just van den Broecke and contain open data from the Dutch Government (mostly via PDOK) and from OpenStreetMap. Dutch open data sources are: BAG, BGT, BRK, BRT, NWB and AHN.
</ows:Abstract>
    <ows:ServiceType>OGC WMTS</ows:ServiceType>
    <ows:ServiceTypeVersion>1.0.0</ows:ServiceTypeVersion>
    <ows:Fees>See https://map5.nl</ows:Fees>
    <ows:AccessConstraints>The data is licensed as Creative Commons Attribution-Share Alike 2.0 (http://creativecommons.org/licenses/by-sa/2.0/)</ows:AccessConstraints>
  </ows:ServiceIdentification>
  <ows:ServiceProvider>
    <ows:ProviderName>Map5.nl by Just Objects B.V.</ows:ProviderName>
    <ows:ProviderSite xlink:href="https://map5.nl"/>
    <ows:ServiceContact>
      <ows:IndividualName>Just van den Broecke</ows:IndividualName>
      <ows:PositionName>Open Geospatial Professional</ows:PositionName>
      <ows:ContactInfo>
        <ows:Phone>
          <ows:Voice>+31(0)654268627</ows:Voice>
          <ows:Facsimile></ows:Facsimile>
        </ows:Phone>
        <ows:Address>
          <ows:DeliveryPoint>Map5.nl by Just Objects B.V.</ows:DeliveryPoint>
          <ows:City>Amstelveen</ows:City>
          <ows:PostalCode>1181PL</ows:PostalCode>
          <ows:Country>The Netherlands</ows:Country>
          <ows:ElectronicMailAddress>just@justobjects.nl</ows:ElectronicMailAddress>
        </ows:Address>
      </ows:ContactInfo>
    </ows:ServiceContact>
  </ows:ServiceProvider>
  <Contents>
    <Layer>
      <ows:Title>Bonnebladen - 1900 and earlier - powered by map5.nl</ows:Title>
      <ows:Abstract></ows:Abstract>
      <ows:WGS84BoundingBox>
        <ows:LowerCorner>3.1973340503975107 50.67175914397353</ows:LowerCorner>
        <ows:UpperCorner>7.275172911278263 53.61086451154689</ows:UpperCorner>
      </ows:WGS84BoundingBox>
      <ows:Identifier>bonne_1900</ows:Identifier>
      <Style>
        <ows:Identifier>default</ows:Identifier>
      </Style>
      <Format>image/png</Format>
      <TileMatrixSetLink>
        <TileMatrixSet>geonovum_grid</TileMatrixSet>
      </TileMatrixSetLink>
      <TileMatrixSetLink>
        <TileMatrixSet>webmerc_grid</TileMatrixSet>
      </TileMatrixSetLink>
      <ResourceURL format="image/png" resourceType="tile"
        template="https://s.map5.nl/map/gast/wmts/bonne_1900/{TileMatrixSet}/{TileMatrix}/{TileCol}/{TileRow}.png"/>
    </Layer>
    <Layer>
      <ows:Title>Bonnebladen - 1925 and earlier - powered by map5.nl</ows:Title>
      <ows:Abstract></ows:Abstract>
      <ows:WGS84BoundingBox>
        <ows:LowerCorner>3.1973340503975107 50.67175914397353</ows:LowerCorner>
        <ows:UpperCorner>7.275172911278263 53.61086451154689</ows:UpperCorner>
      </ows:WGS84BoundingBox>
      <ows:Identifier>bonne_1925</ows:Identifier>
      <Style>
        <ows:Identifier>default</ows:Identifier>
      </Style>
      <Format>image/png</Format>
      <TileMatrixSetLink>
        <TileMatrixSet>geonovum_grid</TileMatrixSet>
      </TileMatrixSetLink>
      <TileMatrixSetLink>
        <TileMatrixSet>webmerc_grid</TileMatrixSet>
      </TileMatrixSetLink>
      <ResourceURL format="image/png" resourceType="tile"
        template="https://s.map5.nl/map/gast/wmts/bonne_1925/{TileMatrixSet}/{TileMatrix}/{TileCol}/{TileRow}.png"/>
    </Layer>
    <Layer>
      <ows:Title>Bonnebladen - 1949 and earlier - powered by map5.nl</ows:Title>
      <ows:Abstract></ows:Abstract>
      <ows:WGS84BoundingBox>
        <ows:LowerCorner>3.1973340503975107 50.67175914397353</ows:LowerCorner>
        <ows:UpperCorner>7.275172911278263 53.61086451154689</ows:UpperCorner>
      </ows:WGS84BoundingBox>
      <ows:Identifier>bonne_1949</ows:Identifier>
      <Style>
        <ows:Identifier>default</ows:Identifier>
      </Style>
      <Format>image/png</Format>
      <TileMatrixSetLink>
        <TileMatrixSet>geonovum_grid</TileMatrixSet>
      </TileMatrixSetLink>
      <TileMatrixSetLink>
        <TileMatrixSet>webmerc_grid</TileMatrixSet>
      </TileMatrixSetLink>
      <ResourceURL format="image/png" resourceType="tile"
        template="https://s.map5.nl/map/gast/wmts/bonne_1949/{TileMatrixSet}/{TileMatrix}/{TileCol}/{TileRow}.png"/>
    </Layer>
    <Layer>
      <ows:Title>BRT Achtergrond (zoom 0-11) en BGT Achtergrond (zoom 12-16) composiet - achtergrond - direct van PDOK</ows:Title>
      <ows:Abstract></ows:Abstract>
      <ows:WGS84BoundingBox>
        <ows:LowerCorner>-1.6572916026074767 48.040501872204516</ows:LowerCorner>
        <ows:UpperCorner>12.431727264736637 56.11058964552854</ows:UpperCorner>
      </ows:WGS84BoundingBox>
      <ows:Identifier>brtbgt</ows:Identifier>
      <Style>
        <ows:Identifier>default</ows:Identifier>
      </Style>
      <Format>image/png</Format>
      <TileMatrixSetLink>
        <TileMatrixSet>geonovum_grid</TileMatrixSet>
      </TileMatrixSetLink>
      <ResourceURL format="image/png" resourceType="tile"
        template="https://s.map5.nl/map/gast/wmts/brtbgt/{TileMatrixSet}/{TileMatrix}/{TileCol}/{TileRow}.png"/>
    </Layer>
    <Layer>
      <ows:Title>BRT Achtergrond (zoom 0-8) Top10NL (zoom 9-12) en BGT (zoom 13-16) composiet - topografisch - direct van PDOK</ows:Title>
      <ows:Abstract></ows:Abstract>
      <ows:WGS84BoundingBox>
        <ows:LowerCorner>-1.6572916026074767 48.040501872204516</ows:LowerCorner>
        <ows:UpperCorner>12.431727264736637 56.11058964552854</ows:UpperCorner>
      </ows:WGS84BoundingBox>
      <ows:Identifier>brtbgt_topo</ows:Identifier>
      <Style>
        <ows:Identifier>default</ows:Identifier>
      </Style>
      <Format>image/png</Format>
      <TileMatrixSetLink>
        <TileMatrixSet>geonovum_grid</TileMatrixSet>
      </TileMatrixSetLink>
      <ResourceURL format="image/png" resourceType="tile"
        template="https://s.map5.nl/map/gast/wmts/brtbgt_topo/{TileMatrixSet}/{TileMatrix}/{TileCol}/{TileRow}.png"/>
    </Layer>
    <Layer>
      <ows:Title>LufoRoads + LufoLabels + by JW van Aalst - 2020R12 - powered by map5.nl</ows:Title>
      <ows:Abstract></ows:Abstract>
      <ows:WGS84BoundingBox>
        <ows:LowerCorner>3.0137544451853056 50.57882393914561</ows:LowerCorner>
        <ows:UpperCorner>7.4887368679516655 53.6558033036302</ows:UpperCorner>
      </ows:WGS84BoundingBox>
      <ows:Identifier>luforoadslabels</ows:Identifier>
      <Style>
        <ows:Identifier>default</ows:Identifier>
      </Style>
      <Format>image/png</Format>
      <TileMatrixSetLink>
        <TileMatrixSet>geonovum_grid</TileMatrixSet>
      </TileMatrixSetLink>
      <TileMatrixSetLink>
        <TileMatrixSet>webmerc_grid</TileMatrixSet>
      </TileMatrixSetLink>
      <ResourceURL format="image/png" resourceType="tile"
        template="https://s.map5.nl/map/gast/wmts/luforoadslabels/{TileMatrixSet}/{TileMatrix}/{TileCol}/{TileRow}.png"/>
    </Layer>
    <Layer>
      <ows:Title>map5topo - Map5 Topomap NL - by map5.nl - 2026-07</ows:Title>
      <ows:Abstract></ows:Abstract>
      <ows:WGS84BoundingBox>
        <ows:LowerCorner>2.7307257117601376 50.438927206724316</ows:LowerCorner>
        <ows:UpperCorner>7.58865673195859 53.835341753213726</ows:UpperCorner>
      </ows:WGS84BoundingBox>
      <ows:Identifier>map5topo</ows:Identifier>
      <Style>
        <ows:Identifier>default</ows:Identifier>
      </Style>
      <Format>image/jpeg</Format>
      <TileMatrixSetLink>
        <TileMatrixSet>geonovum_grid</TileMatrixSet>
      </TileMatrixSetLink>
      <TileMatrixSetLink>
        <TileMatrixSet>webmerc_grid</TileMatrixSet>
      </TileMatrixSetLink>
      <ResourceURL format="image/jpeg" resourceType="tile"
        template="https://s.map5.nl/map/gast/wmts/map5topo/{TileMatrixSet}/{TileMatrix}/{TileCol}/{TileRow}.jpeg"/>
    </Layer>
    <Layer>
      <ows:Title>map5topo hi-res retina - Map5 Topomap NL - by map5.nl - 2026-07</ows:Title>
      <ows:Abstract></ows:Abstract>
      <ows:WGS84BoundingBox>
        <ows:LowerCorner>2.7307257117601376 50.438927206724316</ows:LowerCorner>
        <ows:UpperCorner>7.58865673195859 53.835341753213726</ows:UpperCorner>
      </ows:WGS84BoundingBox>
      <ows:Identifier>map5topo_hq</ows:Identifier>
      <Style>
        <ows:Identifier>default</ows:Identifier>
      </Style>
      <Format>image/jpeg</Format>
      <TileMatrixSetLink>
        <TileMatrixSet>geonovum_grid_hq</TileMatrixSet>
      </TileMatrixSetLink>
      <TileMatrixSetLink>
        <TileMatrixSet>webmerc_grid_hq</TileMatrixSet>
      </TileMatrixSetLink>
      <ResourceURL format="image/jpeg" resourceType="tile"
        template="https://s.map5.nl/map/gast/wmts/map5topo_hq/{TileMatrixSet}/{TileMatrix}/{TileCol}/{TileRow}.jpeg"/>
    </Layer>
    <Layer>
      <ows:Title>map5topo_gray - Map5 Topomap GrayScale NL - by map5.nl - 2026-07</ows:Title>
      <ows:Abstract></ows:Abstract>
      <ows:WGS84BoundingBox>
        <ows:LowerCorner>2.7307257117601376 50.438927206724316</ows:LowerCorner>
        <ows:UpperCorner>7.58865673195859 53.835341753213726</ows:UpperCorner>
      </ows:WGS84BoundingBox>
      <ows:Identifier>map5topo_gray</ows:Identifier>
      <Style>
        <ows:Identifier>default</ows:Identifier>
      </Style>
      <Format>image/jpeg</Format>
      <TileMatrixSetLink>
        <TileMatrixSet>geonovum_grid</TileMatrixSet>
      </TileMatrixSetLink>
      <TileMatrixSetLink>
        <TileMatrixSet>webmerc_grid</TileMatrixSet>
      </TileMatrixSetLink>
      <ResourceURL format="image/jpeg" resourceType="tile"
        template="https://s.map5.nl/map/gast/wmts/map5topo_gray/{TileMatrixSet}/{TileMatrix}/{TileCol}/{TileRow}.jpeg"/>
    </Layer>
    <Layer>
      <ows:Title>map5topo_simple - Map5 Topomap Simple NL - by map5.nl - 2026-07</ows:Title>
      <ows:Abstract></ows:Abstract>
      <ows:WGS84BoundingBox>
        <ows:LowerCorner>2.7307257117601376 50.438927206724316</ows:LowerCorner>
        <ows:UpperCorner>7.58865673195859 53.835341753213726</ows:UpperCorner>
      </ows:WGS84BoundingBox>
      <ows:Identifier>map5topo_simple</ows:Identifier>
      <Style>
        <ows:Identifier>default</ows:Identifier>
      </Style>
      <Format>image/jpeg</Format>
      <TileMatrixSetLink>
        <TileMatrixSet>geonovum_grid</TileMatrixSet>
      </TileMatrixSetLink>
      <TileMatrixSetLink>
        <TileMatrixSet>webmerc_grid</TileMatrixSet>
      </TileMatrixSetLink>
      <ResourceURL format="image/jpeg" resourceType="tile"
        template="https://s.map5.nl/map/gast/wmts/map5topo_simple/{TileMatrixSet}/{TileMatrix}/{TileCol}/{TileRow}.jpeg"/>
    </Layer>
    <Layer>
      <ows:Title>map5topo_simple_gray - Map5 Topomap Simple GrayScale NL - by map5.nl - 2026-07</ows:Title>
      <ows:Abstract></ows:Abstract>
      <ows:WGS84BoundingBox>
        <ows:LowerCorner>2.7307257117601376 50.438927206724316</ows:LowerCorner>
        <ows:UpperCorner>7.58865673195859 53.835341753213726</ows:UpperCorner>
      </ows:WGS84BoundingBox>
      <ows:Identifier>map5topo_simple_gray</ows:Identifier>
      <Style>
        <ows:Identifier>default</ows:Identifier>
      </Style>
      <Format>image/jpeg</Format>
      <TileMatrixSetLink>
        <TileMatrixSet>geonovum_grid</TileMatrixSet>
      </TileMatrixSetLink>
      <TileMatrixSetLink>
        <TileMatrixSet>webmerc_grid</TileMatrixSet>
      </TileMatrixSetLink>
      <ResourceURL format="image/jpeg" resourceType="tile"
        template="https://s.map5.nl/map/gast/wmts/map5topo_simple_gray/{TileMatrixSet}/{TileMatrix}/{TileCol}/{TileRow}.jpeg"/>
    </Layer>
    <Layer>
      <ows:Title>map5topo_zero - Map5 Topomap NL without labels - by map5.nl - 2026-07</ows:Title>
      <ows:Abstract></ows:Abstract>
      <ows:WGS84BoundingBox>
        <ows:LowerCorner>2.7307257117601376 50.438927206724316</ows:LowerCorner>
        <ows:UpperCorner>7.58865673195859 53.835341753213726</ows:UpperCorner>
      </ows:WGS84BoundingBox>
      <ows:Identifier>map5topo_zero</ows:Identifier>
      <Style>
        <ows:Identifier>default</ows:Identifier>
      </Style>
      <Format>image/jpeg</Format>
      <TileMatrixSetLink>
        <TileMatrixSet>geonovum_grid</TileMatrixSet>
      </TileMatrixSetLink>
      <TileMatrixSetLink>
        <TileMatrixSet>webmerc_grid</TileMatrixSet>
      </TileMatrixSetLink>
      <ResourceURL format="image/jpeg" resourceType="tile"
        template="https://s.map5.nl/map/gast/wmts/map5topo_zero/{TileMatrixSet}/{TileMatrix}/{TileCol}/{TileRow}.jpeg"/>
    </Layer>
    <Layer>
      <ows:Title>map5topo_hillshade - Map5 AHN Hillshade NL - by map5.nl - 2026-07</ows:Title>
      <ows:Abstract></ows:Abstract>
      <ows:WGS84BoundingBox>
        <ows:LowerCorner>2.7307257117601376 50.438927206724316</ows:LowerCorner>
        <ows:UpperCorner>7.58865673195859 53.835341753213726</ows:UpperCorner>
      </ows:WGS84BoundingBox>
      <ows:Identifier>map5topo_hillshade</ows:Identifier>
      <Style>
        <ows:Identifier>default</ows:Identifier>
      </Style>
      <Format>image/jpeg</Format>
      <TileMatrixSetLink>
        <TileMatrixSet>geonovum_grid</TileMatrixSet>
      </TileMatrixSetLink>
      <TileMatrixSetLink>
        <TileMatrixSet>webmerc_grid</TileMatrixSet>
      </TileMatrixSetLink>
      <ResourceURL format="image/jpeg" resourceType="tile"
        template="https://s.map5.nl/map/gast/wmts/map5topo_hillshade/{TileMatrixSet}/{TileMatrix}/{TileCol}/{TileRow}.jpeg"/>
    </Layer>
    <Layer>
      <ows:Title>OpenLufo - PDOK Lufo RGB High res 2023 + Labels by JW van Aalst - powered by map5.nl</ows:Title>
      <ows:Abstract></ows:Abstract>
      <ows:WGS84BoundingBox>
        <ows:LowerCorner>3.0137544451853056 50.57882393914561</ows:LowerCorner>
        <ows:UpperCorner>7.4887368679516655 53.6558033036302</ows:UpperCorner>
      </ows:WGS84BoundingBox>
      <ows:Identifier>openlufo</ows:Identifier>
      <Style>
        <ows:Identifier>default</ows:Identifier>
      </Style>
      <Format>image/jpeg</Format>
      <TileMatrixSetLink>
        <TileMatrixSet>geonovum_grid</TileMatrixSet>
      </TileMatrixSetLink>
      <TileMatrixSetLink>
        <TileMatrixSet>webmerc_grid</TileMatrixSet>
      </TileMatrixSetLink>
      <ResourceURL format="image/jpeg" resourceType="tile"
        template="https://s.map5.nl/map/gast/wmts/openlufo/{TileMatrixSet}/{TileMatrix}/{TileCol}/{TileRow}.jpeg"/>
    </Layer>
    <Layer>
      <ows:Title>OpenSimpleTopo - by JW van Aalst - 2022-R02 - powered by map5.nl</ows:Title>
      <ows:Abstract></ows:Abstract>
      <ows:WGS84BoundingBox>
        <ows:LowerCorner>2.7307257117601376 50.438927206724316</ows:LowerCorner>
        <ows:UpperCorner>7.58865673195859 53.835341753213726</ows:UpperCorner>
      </ows:WGS84BoundingBox>
      <ows:Identifier>opensimpletopo</ows:Identifier>
      <Style>
        <ows:Identifier>default</ows:Identifier>
      </Style>
      <Format>image/jpeg</Format>
      <TileMatrixSetLink>
        <TileMatrixSet>geonovum_grid</TileMatrixSet>
      </TileMatrixSetLink>
      <TileMatrixSetLink>
        <TileMatrixSet>webmerc_grid</TileMatrixSet>
      </TileMatrixSetLink>
      <ResourceURL format="image/jpeg" resourceType="tile"
        template="https://s.map5.nl/map/gast/wmts/opensimpletopo/{TileMatrixSet}/{TileMatrix}/{TileCol}/{TileRow}.jpeg"/>
    </Layer>
    <Layer>
      <ows:Title>OpenSimpleTopo GrayScale - by JW van Aalst - 2022-R02 - powered by map5.nl</ows:Title>
      <ows:Abstract></ows:Abstract>
      <ows:WGS84BoundingBox>
        <ows:LowerCorner>2.7307257117601376 50.438927206724316</ows:LowerCorner>
        <ows:UpperCorner>7.58865673195859 53.835341753213726</ows:UpperCorner>
      </ows:WGS84BoundingBox>
      <ows:Identifier>opensimpletopo_gray</ows:Identifier>
      <Style>
        <ows:Identifier>default</ows:Identifier>
      </Style>
      <Format>image/jpeg</Format>
      <TileMatrixSetLink>
        <TileMatrixSet>geonovum_grid</TileMatrixSet>
      </TileMatrixSetLink>
      <TileMatrixSetLink>
        <TileMatrixSet>webmerc_grid</TileMatrixSet>
      </TileMatrixSetLink>
      <ResourceURL format="image/jpeg" resourceType="tile"
        template="https://s.map5.nl/map/gast/wmts/opensimpletopo_gray/{TileMatrixSet}/{TileMatrix}/{TileCol}/{TileRow}.jpeg"/>
    </Layer>
    <Layer>
      <ows:Title>OpenTopo - by JW van Aalst - 2022-R02 - powered by map5.nl</ows:Title>
      <ows:Abstract></ows:Abstract>
      <ows:WGS84BoundingBox>
        <ows:LowerCorner>2.7307257117601376 50.438927206724316</ows:LowerCorner>
        <ows:UpperCorner>7.58865673195859 53.835341753213726</ows:UpperCorner>
      </ows:WGS84BoundingBox>
      <ows:Identifier>opentopo</ows:Identifier>
      <Style>
        <ows:Identifier>default</ows:Identifier>
      </Style>
      <Format>image/jpeg</Format>
      <TileMatrixSetLink>
        <TileMatrixSet>geonovum_grid</TileMatrixSet>
      </TileMatrixSetLink>
      <TileMatrixSetLink>
        <TileMatrixSet>webmerc_grid</TileMatrixSet>
      </TileMatrixSetLink>
      <ResourceURL format="image/jpeg" resourceType="tile"
        template="https://s.map5.nl/map/gast/wmts/opentopo/{TileMatrixSet}/{TileMatrix}/{TileCol}/{TileRow}.jpeg"/>
    </Layer>
    <Layer>
      <ows:Title>OpenTopo GrayScale - by JW van Aalst - 2022-R02 - powered by map5.nl</ows:Title>
      <ows:Abstract></ows:Abstract>
      <ows:WGS84BoundingBox>
        <ows:LowerCorner>2.7307257117601376 50.438927206724316</ows:LowerCorner>
        <ows:UpperCorner>7.58865673195859 53.835341753213726</ows:UpperCorner>
      </ows:WGS84BoundingBox>
      <ows:Identifier>opentopo_gray</ows:Identifier>
      <Style>
        <ows:Identifier>default</ows:Identifier>
      </Style>
      <Format>image/jpeg</Format>
      <TileMatrixSetLink>
        <TileMatrixSet>geonovum_grid</TileMatrixSet>
      </TileMatrixSetLink>
      <TileMatrixSetLink>
        <TileMatrixSet>webmerc_grid</TileMatrixSet>
      </TileMatrixSetLink>
      <ResourceURL format="image/jpeg" resourceType="tile"
        template="https://s.map5.nl/map/gast/wmts/opentopo_gray/{TileMatrixSet}/{TileMatrix}/{TileCol}/{TileRow}.jpeg"/>
    </Layer>
    <Layer>
      <ows:Title>AHN2/AHN3 Reliefkaart - Structuur - 2016-R08</ows:Title>
      <ows:Abstract></ows:Abstract>
      <ows:WGS84BoundingBox>
        <ows:LowerCorner>2.7307257117601376 50.438927206724316</ows:LowerCorner>
        <ows:UpperCorner>7.58865673195859 53.835341753213726</ows:UpperCorner>
      </ows:WGS84BoundingBox>
      <ows:Identifier>relief_struct</ows:Identifier>
      <Style>
        <ows:Identifier>default</ows:Identifier>
      </Style>
      <Format>image/jpeg</Format>
      <TileMatrixSetLink>
        <TileMatrixSet>geonovum_grid</TileMatrixSet>
      </TileMatrixSetLink>
      <TileMatrixSetLink>
        <TileMatrixSet>webmerc_grid</TileMatrixSet>
      </TileMatrixSetLink>
      <ResourceURL format="image/jpeg" resourceType="tile"
        template="https://s.map5.nl/map/gast/wmts/relief_struct/{TileMatrixSet}/{TileMatrix}/{TileCol}/{TileRow}.jpeg"/>
    </Layer>
    <Layer>
      <ows:Title>AHN2/AHN3 Reliefkaart - Structuur met Labels - 2016-R08</ows:Title>
      <ows:Abstract></ows:Abstract>
      <ows:WGS84BoundingBox>
        <ows:LowerCorner>2.7307257117601376 50.438927206724316</ows:LowerCorner>
        <ows:UpperCorner>7.58865673195859 53.835341753213726</ows:UpperCorner>
      </ows:WGS84BoundingBox>
      <ows:Identifier>relief_struct_roadslabels</ows:Identifier>
      <Style>
        <ows:Identifier>default</ows:Identifier>
      </Style>
      <Format>image/jpeg</Format>
      <TileMatrixSetLink>
        <TileMatrixSet>geonovum_grid</TileMatrixSet>
      </TileMatrixSetLink>
      <TileMatrixSetLink>
        <TileMatrixSet>webmerc_grid</TileMatrixSet>
      </TileMatrixSetLink>
      <ResourceURL format="image/jpeg" resourceType="tile"
        template="https://s.map5.nl/map/gast/wmts/relief_struct_roadslabels/{TileMatrixSet}/{TileMatrix}/{TileCol}/{TileRow}.jpeg"/>
    </Layer>
    <Layer>
      <ows:Title>TMK 1850 - military map</ows:Title>
      <ows:Abstract></ows:Abstract>
      <ows:WGS84BoundingBox>
        <ows:LowerCorner>3.1973340503975107 50.67175914397353</ows:LowerCorner>
        <ows:UpperCorner>7.275172911278263 53.61086451154689</ows:UpperCorner>
      </ows:WGS84BoundingBox>
      <ows:Identifier>tmk_1850</ows:Identifier>
      <Style>
        <ows:Identifier>default</ows:Identifier>
      </Style>
      <Format>image/png</Format>
      <TileMatrixSetLink>
        <TileMatrixSet>geonovum_grid</TileMatrixSet>
      </TileMatrixSetLink>
      <TileMatrixSetLink>
        <TileMatrixSet>webmerc_grid</TileMatrixSet>
      </TileMatrixSetLink>
      <ResourceURL format="image/png" resourceType="tile"
        template="https://s.map5.nl/map/gast/wmts/tmk_1850/{TileMatrixSet}/{TileMatrix}/{TileCol}/{TileRow}.png"/>
    </Layer>
    <Layer>
      <ows:Title>Kadaster BRT Topraster - Top1000/500/250/100/50/25 composiet - 2017-R06 - powered by map5.nl</ows:Title>
      <ows:Abstract></ows:Abstract>
      <ows:WGS84BoundingBox>
        <ows:LowerCorner>2.379715238581764 49.980137522462165</ows:LowerCorner>
        <ows:UpperCorner>8.548716382806171 54.509186166597935</ows:UpperCorner>
      </ows:WGS84BoundingBox>
      <ows:Identifier>topraster</ows:Identifier>
      <Style>
        <ows:Identifier>default</ows:Identifier>
      </Style>
      <Format>image/jpeg</Format>
      <TileMatrixSetLink>
        <TileMatrixSet>geonovum_grid</TileMatrixSet>
      </TileMatrixSetLink>
      <TileMatrixSetLink>
        <TileMatrixSet>webmerc_grid</TileMatrixSet>
      </TileMatrixSetLink>
      <ResourceURL format="image/jpeg" resourceType="tile"
        template="https://s.map5.nl/map/gast/wmts/topraster/{TileMatrixSet}/{TileMatrix}/{TileCol}/{TileRow}.jpeg"/>
    </Layer>
    <TileMatrixSet>
      <ows:Identifier>geonovum_grid</ows:Identifier>
      <ows:SupportedCRS>EPSG:28992</ows:SupportedCRS>
      <TileMatrix>
        <ows:Identifier>00</ows:Identifier>
        <ScaleDenominator>12287999.999999998</ScaleDenominator>
        <TopLeftCorner>-285401.92 903401.9199999999</TopLeftCorner>
        <TileWidth>256</TileWidth>
        <TileHeight>256</TileHeight>
        <MatrixWidth>1</MatrixWidth>
        <MatrixHeight>1</MatrixHeight>
      </TileMatrix>
      <TileMatrix>
        <ows:Identifier>01</ows:Identifier>
        <ScaleDenominator>6143999.999999999</ScaleDenominator>
        <TopLeftCorner>-285401.92 903401.9199999999</TopLeftCorner>
        <TileWidth>256</TileWidth>
        <TileHeight>256</TileHeight>
        <MatrixWidth>2</MatrixWidth>
        <MatrixHeight>2</MatrixHeight>
      </TileMatrix>
      <TileMatrix>
        <ows:Identifier>02</ows:Identifier>
        <ScaleDenominator>3071999.9999999995</ScaleDenominator>
        <TopLeftCorner>-285401.92 903401.9199999999</TopLeftCorner>
        <TileWidth>256</TileWidth>
        <TileHeight>256</TileHeight>
        <MatrixWidth>4</MatrixWidth>
        <MatrixHeight>4</MatrixHeight>
      </TileMatrix>
      <TileMatrix>
        <ows:Identifier>03</ows:Identifier>
        <ScaleDenominator>1535999.9999999998</ScaleDenominator>
        <TopLeftCorner>-285401.92 903401.9199999999</TopLeftCorner>
        <TileWidth>256</TileWidth>
